BEGIN:VCALENDAR
VERSION:2.0
PRODID:-//Liedertafel Schwabach-Forsthof - ECPv6.15.20//NONSGML v1.0//EN
CALSCALE:GREGORIAN
METHOD:PUBLISH
X-ORIGINAL-URL:https://liedertafel-schwabach-forsthof.de
X-WR-CALDESC:Veranstaltungen für Liedertafel Schwabach-Forsthof
REFRESH-INTERVAL;VALUE=DURATION:PT1H
X-Robots-Tag:noindex
X-PUBLISHED-TTL:PT1H
BEGIN:VTIMEZONE
TZID:Europe/Helsinki
BEGIN:DAYLIGHT
TZOFFSETFROM:+0200
TZOFFSETTO:+0300
TZNAME:EEST
DTSTART:20230326T010000
END:DAYLIGHT
BEGIN:STANDARD
TZOFFSETFROM:+0300
TZOFFSETTO:+0200
TZNAME:EET
DTSTART:20231029T010000
END:STANDARD
BEGIN:DAYLIGHT
TZOFFSETFROM:+0200
TZOFFSETTO:+0300
TZNAME:EEST
DTSTART:20240331T010000
END:DAYLIGHT
BEGIN:STANDARD
TZOFFSETFROM:+0300
TZOFFSETTO:+0200
TZNAME:EET
DTSTART:20241027T010000
END:STANDARD
BEGIN:DAYLIGHT
TZOFFSETFROM:+0200
TZOFFSETTO:+0300
TZNAME:EEST
DTSTART:20250330T010000
END:DAYLIGHT
BEGIN:STANDARD
TZOFFSETFROM:+0300
TZOFFSETTO:+0200
TZNAME:EET
DTSTART:20251026T010000
END:STANDARD
END:VTIMEZONE
BEGIN:VEVENT
DTSTART;TZID=Europe/Helsinki:20240911T160000
DTEND;TZID=Europe/Helsinki:20240911T180000
DTSTAMP:20260421T145528
CREATED:20240813T060955Z
LAST-MODIFIED:20240813T061143Z
UID:531-1726070400-1726077600@liedertafel-schwabach-forsthof.de
SUMMARY:1. Chorprobe nach den Sommerferien
DESCRIPTION:Die erste Chorprobe findet am Mittwoch\, dem 11. September 2024 im Gasthof Raab\, Äußere Rittersbacher Straße 14 in Schwabach statt.\nHerzlich willkommen an alle neuen begeisterten Sängerinnen und Sänger.
URL:https://liedertafel-schwabach-forsthof.de/event/1-chorprobe-nach-den-sommerferien-2/
LOCATION:Gasthof Raab\, Äußere Rittersbacher Str. 14\, 91126 Schwabach
END:VEVENT
BEGIN:VEVENT
DTSTART;TZID=Europe/Helsinki:20240929T160000
DTEND;TZID=Europe/Helsinki:20240929T180000
DTSTAMP:20260421T145528
CREATED:20240812T183619Z
LAST-MODIFIED:20240922T191332Z
UID:540-1727625600-1727632800@liedertafel-schwabach-forsthof.de
SUMMARY:Zammg'spuit - Schwabach\, wie es singt und lacht
DESCRIPTION:Herzliche Einladung zu unserer Veranstaltung im Gaswerk\, Nördliche Ringstraße 9\, 91126 Schwabach am Sonntag\, dem 29.09.2024 um 16 Uhr.\nEs erwartet Sie ein buntes Programm\, begleitet von der Band ‘Schmidteinander’ sowie den Ratschkatt’ln.\nEintritt: 15\,00 €.
URL:https://liedertafel-schwabach-forsthof.de/event/zammgspuit-schwabach-wie-es-singt-und-lacht/
LOCATION:Gaswerk\, Nördliche Ringstraße 9\, 91126 Schwabach
END:VEVENT
END:VCALENDAR