BEGIN:VCALENDAR
VERSION:2.0
PRODID:-//Liedertafel Schwabach-Forsthof - ECPv6.15.20//NONSGML v1.0//EN
CALSCALE:GREGORIAN
METHOD:PUBLISH
X-WR-CALNAME:Liedertafel Schwabach-Forsthof
X-ORIGINAL-URL:https://liedertafel-schwabach-forsthof.de
X-WR-CALDESC:Veranstaltungen für Liedertafel Schwabach-Forsthof
REFRESH-INTERVAL;VALUE=DURATION:PT1H
X-Robots-Tag:noindex
X-PUBLISHED-TTL:PT1H
BEGIN:VTIMEZONE
TZID:Europe/Helsinki
BEGIN:DAYLIGHT
TZOFFSETFROM:+0200
TZOFFSETTO:+0300
TZNAME:EEST
DTSTART:20230326T010000
END:DAYLIGHT
BEGIN:STANDARD
TZOFFSETFROM:+0300
TZOFFSETTO:+0200
TZNAME:EET
DTSTART:20231029T010000
END:STANDARD
BEGIN:DAYLIGHT
TZOFFSETFROM:+0200
TZOFFSETTO:+0300
TZNAME:EEST
DTSTART:20240331T010000
END:DAYLIGHT
BEGIN:STANDARD
TZOFFSETFROM:+0300
TZOFFSETTO:+0200
TZNAME:EET
DTSTART:20241027T010000
END:STANDARD
BEGIN:DAYLIGHT
TZOFFSETFROM:+0200
TZOFFSETTO:+0300
TZNAME:EEST
DTSTART:20250330T010000
END:DAYLIGHT
BEGIN:STANDARD
TZOFFSETFROM:+0300
TZOFFSETTO:+0200
TZNAME:EET
DTSTART:20251026T010000
END:STANDARD
END:VTIMEZONE
BEGIN:VEVENT
DTSTART;TZID=Europe/Helsinki:20240703T000000
DTEND;TZID=Europe/Helsinki:20240703T235959
DTSTAMP:20260421T184629
CREATED:20240403T185828Z
LAST-MODIFIED:20240403T185828Z
UID:389-1719964800-1720051199@liedertafel-schwabach-forsthof.de
SUMMARY:Chorprobe
DESCRIPTION:Unsere Chorprobe findet jeden Mittwoch von 19:30 – 21:15 Uhr statt. Wir proben im Gasthaus Raab\, Äußere Rittersbacher Str. 14 in Schwabach. Gerne kann jeder\, der Lust hat\, bei uns mitsingen. Wir freuen uns auf neue Sängerinnen und Sänger.
URL:https://liedertafel-schwabach-forsthof.de/event/chorprobe-10/
END:VEVENT
BEGIN:VEVENT
DTSTART;TZID=Europe/Helsinki:20240710T000000
DTEND;TZID=Europe/Helsinki:20240710T235959
DTSTAMP:20260421T184629
CREATED:20240403T185842Z
LAST-MODIFIED:20240403T185842Z
UID:391-1720569600-1720655999@liedertafel-schwabach-forsthof.de
SUMMARY:Chorprobe
DESCRIPTION:Unsere Chorprobe findet jeden Mittwoch von 19:30 – 21:15 Uhr statt. Wir proben im Gasthaus Raab\, Äußere Rittersbacher Str. 14 in Schwabach. Gerne kann jeder\, der Lust hat\, bei uns mitsingen. Wir freuen uns auf neue Sängerinnen und Sänger.
URL:https://liedertafel-schwabach-forsthof.de/event/chorprobe-11/
END:VEVENT
BEGIN:VEVENT
DTSTART;TZID=Europe/Helsinki:20240717T000000
DTEND;TZID=Europe/Helsinki:20240717T235959
DTSTAMP:20260421T184629
CREATED:20240403T185858Z
LAST-MODIFIED:20240403T185858Z
UID:393-1721174400-1721260799@liedertafel-schwabach-forsthof.de
SUMMARY:Chorprobe
DESCRIPTION:Unsere Chorprobe findet jeden Mittwoch von 19:30 – 21:15 Uhr statt. Wir proben im Gasthaus Raab\, Äußere Rittersbacher Str. 14 in Schwabach. Gerne kann jeder\, der Lust hat\, bei uns mitsingen. Wir freuen uns auf neue Sängerinnen und Sänger.
URL:https://liedertafel-schwabach-forsthof.de/event/chorprobe-12/
END:VEVENT
BEGIN:VEVENT
DTSTART;TZID=Europe/Helsinki:20240720T170000
DTEND;TZID=Europe/Helsinki:20240720T183000
DTSTAMP:20260421T184629
CREATED:20240520T142234Z
LAST-MODIFIED:20240520T142406Z
UID:424-1721494800-1721500200@liedertafel-schwabach-forsthof.de
SUMMARY:Bürgerfestkonzert
DESCRIPTION:Bürgerfestsamstag\, dem 20. Juli 2024 treten wir um 17:00 Uhr als Projektchor mit anderen Sängerinnen in der Stadtkirche auf. Wir singen zusammen mit dem Kammerorchester Schwabach.\nEs werden Lieder von John Rutter\, Ennio Morricone sowie von Enya (May it be)  gesungen. \nDamit rocken wir die Stadtkirche!
URL:https://liedertafel-schwabach-forsthof.de/event/424/
END:VEVENT
BEGIN:VEVENT
DTSTART;TZID=Europe/Helsinki:20240721T093000
DTEND;TZID=Europe/Helsinki:20240721T103000
DTSTAMP:20260421T184629
CREATED:20240520T141228Z
LAST-MODIFIED:20240520T141228Z
UID:421-1721554200-1721557800@liedertafel-schwabach-forsthof.de
SUMMARY:Bürgerfest-Gottesdienst am Sonntag\, 21.07.2024
DESCRIPTION:Am Bürgerfestsonntag\, dem 21.07.2024 werden wir den Festgottesdienst festlich mitgestalten.\nBeginn des Gottesdienstes ist um 9:30 Uhr am Königsplatz in Schwabach.
URL:https://liedertafel-schwabach-forsthof.de/event/buergerfest-gottesdienst-am-sonntag-21-07-2024/
LOCATION:Königsplatz\, 91126 Schwabach
END:VEVENT
BEGIN:VEVENT
DTSTART;TZID=Europe/Helsinki:20240724T000000
DTEND;TZID=Europe/Helsinki:20240724T235959
DTSTAMP:20260421T184629
CREATED:20240403T185930Z
LAST-MODIFIED:20240403T185930Z
UID:395-1721779200-1721865599@liedertafel-schwabach-forsthof.de
SUMMARY:Chorprobe
DESCRIPTION:Unsere Chorprobe findet jeden Mittwoch von 19:30 – 21:15 Uhr statt. Wir proben im Gasthaus Raab\, Äußere Rittersbacher Str. 14 in Schwabach. Gerne kann jeder\, der Lust hat\, bei uns mitsingen. Wir freuen uns auf neue Sängerinnen und Sänger.
URL:https://liedertafel-schwabach-forsthof.de/event/chorprobe-13/
END:VEVENT
BEGIN:VEVENT
DTSTART;TZID=Europe/Helsinki:20240728T160000
DTEND;TZID=Europe/Helsinki:20240728T170000
DTSTAMP:20260421T184629
CREATED:20240520T143348Z
LAST-MODIFIED:20240520T143348Z
UID:428-1722182400-1722186000@liedertafel-schwabach-forsthof.de
SUMMARY:Musikalischer Stadtspaziergang
DESCRIPTION:Am Sonntag\, dem 28. Juli 2024 flanieren wir ab 16:00 Uhr gemeinsam mit Ihnen durch unsere wunderschöne Altstadt. Wir singen an verschiedenen Stationen unterschiedliche Lieder\, wo auch gemeinsam mit dem Publikum gesungen wird. Es wird uns auch ein Stadtführer begleiten. Es wird noch genau bekanntgegeben\, an welchem Ort die Veranstaltung beginnt.
URL:https://liedertafel-schwabach-forsthof.de/event/musikalischer-stadtspaziergang/
END:VEVENT
BEGIN:VEVENT
DTSTART;TZID=Europe/Helsinki:20240729T170000
DTEND;TZID=Europe/Helsinki:20240729T210000
DTSTAMP:20260421T184629
CREATED:20240520T144329Z
LAST-MODIFIED:20240520T144400Z
UID:430-1722272400-1722286800@liedertafel-schwabach-forsthof.de
SUMMARY:Grillfest
DESCRIPTION:Unser diesjähriges Grillfest findet am Montag\, dem 29.07.2024 ab 17:00 Uhr in unserem Vereinslokal Raab für Mitglieder statt.
URL:https://liedertafel-schwabach-forsthof.de/event/grillfest/
LOCATION:Gasthof Raab\, Äußere Rittersbacher Str. 14\, 91126 Schwabach
END:VEVENT
END:VCALENDAR