BEGIN:VCALENDAR
VERSION:2.0
PRODID:-//Liedertafel Schwabach-Forsthof - ECPv6.15.20//NONSGML v1.0//EN
CALSCALE:GREGORIAN
METHOD:PUBLISH
X-ORIGINAL-URL:https://liedertafel-schwabach-forsthof.de
X-WR-CALDESC:Veranstaltungen für Liedertafel Schwabach-Forsthof
REFRESH-INTERVAL;VALUE=DURATION:PT1H
X-Robots-Tag:noindex
X-PUBLISHED-TTL:PT1H
BEGIN:VTIMEZONE
TZID:Europe/Helsinki
BEGIN:DAYLIGHT
TZOFFSETFROM:+0200
TZOFFSETTO:+0300
TZNAME:EEST
DTSTART:20230326T010000
END:DAYLIGHT
BEGIN:STANDARD
TZOFFSETFROM:+0300
TZOFFSETTO:+0200
TZNAME:EET
DTSTART:20231029T010000
END:STANDARD
BEGIN:DAYLIGHT
TZOFFSETFROM:+0200
TZOFFSETTO:+0300
TZNAME:EEST
DTSTART:20240331T010000
END:DAYLIGHT
BEGIN:STANDARD
TZOFFSETFROM:+0300
TZOFFSETTO:+0200
TZNAME:EET
DTSTART:20241027T010000
END:STANDARD
BEGIN:DAYLIGHT
TZOFFSETFROM:+0200
TZOFFSETTO:+0300
TZNAME:EEST
DTSTART:20250330T010000
END:DAYLIGHT
BEGIN:STANDARD
TZOFFSETFROM:+0300
TZOFFSETTO:+0200
TZNAME:EET
DTSTART:20251026T010000
END:STANDARD
END:VTIMEZONE
BEGIN:VEVENT
DTSTART;TZID=Europe/Helsinki:20241113T000000
DTEND;TZID=Europe/Helsinki:20241113T235959
DTSTAMP:20260419T180126
CREATED:20241112T105824Z
LAST-MODIFIED:20241112T105824Z
UID:550-1731456000-1731542399@liedertafel-schwabach-forsthof.de
SUMMARY:Chorprobe
DESCRIPTION:Unsere Chorprobe findet jeden Mittwoch von 19:30 – 21:15 Uhr statt. Wir proben im Gasthaus Raab\, Äußere Rittersbacher Str. 14 in Schwabach. Gerne kann jeder\, der Lust hat\, bei uns mitsingen. Wir freuen uns auf neue Sängerinnen und Sänger.
URL:https://liedertafel-schwabach-forsthof.de/event/chorprobe-14/
END:VEVENT
END:VCALENDAR