BEGIN:VCALENDAR
VERSION:2.0
PRODID:-//Liedertafel Schwabach-Forsthof - ECPv6.15.20//NONSGML v1.0//EN
CALSCALE:GREGORIAN
METHOD:PUBLISH
X-WR-CALNAME:Liedertafel Schwabach-Forsthof
X-ORIGINAL-URL:https://liedertafel-schwabach-forsthof.de
X-WR-CALDESC:Veranstaltungen für Liedertafel Schwabach-Forsthof
REFRESH-INTERVAL;VALUE=DURATION:PT1H
X-Robots-Tag:noindex
X-PUBLISHED-TTL:PT1H
BEGIN:VTIMEZONE
TZID:Europe/Helsinki
BEGIN:DAYLIGHT
TZOFFSETFROM:+0200
TZOFFSETTO:+0300
TZNAME:EEST
DTSTART:20230326T010000
END:DAYLIGHT
BEGIN:STANDARD
TZOFFSETFROM:+0300
TZOFFSETTO:+0200
TZNAME:EET
DTSTART:20231029T010000
END:STANDARD
BEGIN:DAYLIGHT
TZOFFSETFROM:+0200
TZOFFSETTO:+0300
TZNAME:EEST
DTSTART:20240331T010000
END:DAYLIGHT
BEGIN:STANDARD
TZOFFSETFROM:+0300
TZOFFSETTO:+0200
TZNAME:EET
DTSTART:20241027T010000
END:STANDARD
BEGIN:DAYLIGHT
TZOFFSETFROM:+0200
TZOFFSETTO:+0300
TZNAME:EEST
DTSTART:20250330T010000
END:DAYLIGHT
BEGIN:STANDARD
TZOFFSETFROM:+0300
TZOFFSETTO:+0200
TZNAME:EET
DTSTART:20251026T010000
END:STANDARD
END:VTIMEZONE
BEGIN:VEVENT
DTSTART;TZID=Europe/Helsinki:20240728T160000
DTEND;TZID=Europe/Helsinki:20240728T170000
DTSTAMP:20260421T205204
CREATED:20240520T143348Z
LAST-MODIFIED:20240520T143348Z
UID:428-1722182400-1722186000@liedertafel-schwabach-forsthof.de
SUMMARY:Musikalischer Stadtspaziergang
DESCRIPTION:Am Sonntag\, dem 28. Juli 2024 flanieren wir ab 16:00 Uhr gemeinsam mit Ihnen durch unsere wunderschöne Altstadt. Wir singen an verschiedenen Stationen unterschiedliche Lieder\, wo auch gemeinsam mit dem Publikum gesungen wird. Es wird uns auch ein Stadtführer begleiten. Es wird noch genau bekanntgegeben\, an welchem Ort die Veranstaltung beginnt.
URL:https://liedertafel-schwabach-forsthof.de/event/musikalischer-stadtspaziergang/
END:VEVENT
END:VCALENDAR