BEGIN:VCALENDAR
VERSION:2.0
PRODID:-//Liedertafel Schwabach-Forsthof - ECPv6.15.20//NONSGML v1.0//EN
CALSCALE:GREGORIAN
METHOD:PUBLISH
X-WR-CALNAME:Liedertafel Schwabach-Forsthof
X-ORIGINAL-URL:https://liedertafel-schwabach-forsthof.de
X-WR-CALDESC:Veranstaltungen für Liedertafel Schwabach-Forsthof
REFRESH-INTERVAL;VALUE=DURATION:PT1H
X-Robots-Tag:noindex
X-PUBLISHED-TTL:PT1H
BEGIN:VTIMEZONE
TZID:Europe/Helsinki
BEGIN:DAYLIGHT
TZOFFSETFROM:+0200
TZOFFSETTO:+0300
TZNAME:EEST
DTSTART:20230326T010000
END:DAYLIGHT
BEGIN:STANDARD
TZOFFSETFROM:+0300
TZOFFSETTO:+0200
TZNAME:EET
DTSTART:20231029T010000
END:STANDARD
BEGIN:DAYLIGHT
TZOFFSETFROM:+0200
TZOFFSETTO:+0300
TZNAME:EEST
DTSTART:20240331T010000
END:DAYLIGHT
BEGIN:STANDARD
TZOFFSETFROM:+0300
TZOFFSETTO:+0200
TZNAME:EET
DTSTART:20241027T010000
END:STANDARD
BEGIN:DAYLIGHT
TZOFFSETFROM:+0200
TZOFFSETTO:+0300
TZNAME:EEST
DTSTART:20250330T010000
END:DAYLIGHT
BEGIN:STANDARD
TZOFFSETFROM:+0300
TZOFFSETTO:+0200
TZNAME:EET
DTSTART:20251026T010000
END:STANDARD
END:VTIMEZONE
BEGIN:VEVENT
DTSTART;TZID=Europe/Helsinki:20240306T193000
DTEND;TZID=Europe/Helsinki:20240306T213000
DTSTAMP:20260422T050936
CREATED:20240109T103849Z
LAST-MODIFIED:20240109T103849Z
UID:248-1709753400-1709760600@liedertafel-schwabach-forsthof.de
SUMMARY:Chorprobe jeden Mittwoch
DESCRIPTION:Unsere Chorprobe findet jeden Mittwoch von 19:30 – 21:15 Uhr\nstatt. Wir proben im Gasthaus Raab\, Äußere Rittersbacher Str. 14 in Schwabach.\nGerne kann jeder\, der Lust hat\, bei uns mitsingen.\nWir freuen uns auf neue Sängerinnen und Sänger.
URL:https://liedertafel-schwabach-forsthof.de/event/chorprobe-jeden-mittwoch-12/
END:VEVENT
END:VCALENDAR