BEGIN:VCALENDAR
VERSION:2.0
PRODID:-//Liedertafel Schwabach-Forsthof - ECPv6.15.20//NONSGML v1.0//EN
CALSCALE:GREGORIAN
METHOD:PUBLISH
X-WR-CALNAME:Liedertafel Schwabach-Forsthof
X-ORIGINAL-URL:https://liedertafel-schwabach-forsthof.de
X-WR-CALDESC:Veranstaltungen für Liedertafel Schwabach-Forsthof
REFRESH-INTERVAL;VALUE=DURATION:PT1H
X-Robots-Tag:noindex
X-PUBLISHED-TTL:PT1H
BEGIN:VTIMEZONE
TZID:Europe/Helsinki
BEGIN:DAYLIGHT
TZOFFSETFROM:+0200
TZOFFSETTO:+0300
TZNAME:EEST
DTSTART:20230326T010000
END:DAYLIGHT
BEGIN:STANDARD
TZOFFSETFROM:+0300
TZOFFSETTO:+0200
TZNAME:EET
DTSTART:20231029T010000
END:STANDARD
BEGIN:DAYLIGHT
TZOFFSETFROM:+0200
TZOFFSETTO:+0300
TZNAME:EEST
DTSTART:20240331T010000
END:DAYLIGHT
BEGIN:STANDARD
TZOFFSETFROM:+0300
TZOFFSETTO:+0200
TZNAME:EET
DTSTART:20241027T010000
END:STANDARD
BEGIN:DAYLIGHT
TZOFFSETFROM:+0200
TZOFFSETTO:+0300
TZNAME:EEST
DTSTART:20250330T010000
END:DAYLIGHT
BEGIN:STANDARD
TZOFFSETFROM:+0300
TZOFFSETTO:+0200
TZNAME:EET
DTSTART:20251026T010000
END:STANDARD
END:VTIMEZONE
BEGIN:VEVENT
DTSTART;TZID=Europe/Helsinki:20240124T193000
DTEND;TZID=Europe/Helsinki:20240124T213000
DTSTAMP:20260422T093202
CREATED:20240109T103158Z
LAST-MODIFIED:20240117T173226Z
UID:235-1706124600-1706131800@liedertafel-schwabach-forsthof.de
SUMMARY:Jahreshauptversammlung mit Neuwahlen
DESCRIPTION:Unsere Jahreshauptversammlung mit Neuwahlen findet am Mittwoch\, dem 24.01.2024 um 19:30 Uhr im Gasthof Raab\, Rittersbacher Str. 14\, 91126 Schwabach\, statt.
URL:https://liedertafel-schwabach-forsthof.de/event/chorprobe-jeden-mittwoch-6/
END:VEVENT
END:VCALENDAR