BEGIN:VCALENDAR
VERSION:2.0
PRODID:-//Liedertafel Schwabach-Forsthof - ECPv6.15.20//NONSGML v1.0//EN
CALSCALE:GREGORIAN
METHOD:PUBLISH
X-WR-CALNAME:Liedertafel Schwabach-Forsthof
X-ORIGINAL-URL:https://liedertafel-schwabach-forsthof.de
X-WR-CALDESC:Veranstaltungen für Liedertafel Schwabach-Forsthof
REFRESH-INTERVAL;VALUE=DURATION:PT1H
X-Robots-Tag:noindex
X-PUBLISHED-TTL:PT1H
BEGIN:VTIMEZONE
TZID:Europe/Helsinki
BEGIN:DAYLIGHT
TZOFFSETFROM:+0200
TZOFFSETTO:+0300
TZNAME:EEST
DTSTART:20220327T010000
END:DAYLIGHT
BEGIN:STANDARD
TZOFFSETFROM:+0300
TZOFFSETTO:+0200
TZNAME:EET
DTSTART:20221030T010000
END:STANDARD
BEGIN:DAYLIGHT
TZOFFSETFROM:+0200
TZOFFSETTO:+0300
TZNAME:EEST
DTSTART:20230326T010000
END:DAYLIGHT
BEGIN:STANDARD
TZOFFSETFROM:+0300
TZOFFSETTO:+0200
TZNAME:EET
DTSTART:20231029T010000
END:STANDARD
BEGIN:DAYLIGHT
TZOFFSETFROM:+0200
TZOFFSETTO:+0300
TZNAME:EEST
DTSTART:20240331T010000
END:DAYLIGHT
BEGIN:STANDARD
TZOFFSETFROM:+0300
TZOFFSETTO:+0200
TZNAME:EET
DTSTART:20241027T010000
END:STANDARD
END:VTIMEZONE
BEGIN:VEVENT
DTSTART;TZID=Europe/Helsinki:20231208T000000
DTEND;TZID=Europe/Helsinki:20231210T235959
DTSTAMP:20260422T113612
CREATED:20231109T203241Z
LAST-MODIFIED:20231109T203241Z
UID:131-1701993600-1702252799@liedertafel-schwabach-forsthof.de
SUMMARY:Weihnachtsmarkt
DESCRIPTION:Wir sind wieder dabei mit “Baggers und Apfelmus” am Schwabacher Weihnachtsmarkt vom Freitag\, 08.12.23 bis Sonntag\, 10.10.23.
URL:https://liedertafel-schwabach-forsthof.de/event/weihnachtsmarkt/
LOCATION:Königsplatz\, 91126 Schwabach
END:VEVENT
BEGIN:VEVENT
DTSTART;TZID=Europe/Helsinki:20231210T180000
DTEND;TZID=Europe/Helsinki:20231210T183000
DTSTAMP:20260422T113612
CREATED:20231206T224344Z
LAST-MODIFIED:20231206T224344Z
UID:209-1702231200-1702233000@liedertafel-schwabach-forsthof.de
SUMMARY:GEMEINSAM SINGEN - Eine Strategie gegen Einsamkeit
DESCRIPTION:Gemeinsames Singen lässt das Herz im gleichen Takt schlagen. Deswegen bringen wir mit der Strategie gegen Einsamkeit Menschen zum Singen zusammen.  \nWir laden Sie herzlich ein\, sich in Ihrer Region an der\nGemeinsam-Singen-Aktion des Bundesministeriums für Familie\, Senioren\, Frauen und Jugend zu beteiligen. Überall in Deutschland singen Menschen am 10. Dezember 2023 um 18 Uhr gemeinsam.  \nKommen Sie am Schwabacher Weihnachtsmarkt und singen Sie mit uns. Wir freuen uns auf Sie.
URL:https://liedertafel-schwabach-forsthof.de/event/gemeinsam-singen-eine-strategie-gegen-einsamkeit/
LOCATION:Königsplatz\, 91126 Schwabach
END:VEVENT
END:VCALENDAR