BEGIN:VCALENDAR
VERSION:2.0
PRODID:-//Liedertafel Schwabach-Forsthof - ECPv6.15.20//NONSGML v1.0//EN
CALSCALE:GREGORIAN
METHOD:PUBLISH
X-ORIGINAL-URL:https://liedertafel-schwabach-forsthof.de
X-WR-CALDESC:Veranstaltungen für Liedertafel Schwabach-Forsthof
REFRESH-INTERVAL;VALUE=DURATION:PT1H
X-Robots-Tag:noindex
X-PUBLISHED-TTL:PT1H
BEGIN:VTIMEZONE
TZID:Europe/Helsinki
BEGIN:DAYLIGHT
TZOFFSETFROM:+0200
TZOFFSETTO:+0300
TZNAME:EEST
DTSTART:20220327T010000
END:DAYLIGHT
BEGIN:STANDARD
TZOFFSETFROM:+0300
TZOFFSETTO:+0200
TZNAME:EET
DTSTART:20221030T010000
END:STANDARD
BEGIN:DAYLIGHT
TZOFFSETFROM:+0200
TZOFFSETTO:+0300
TZNAME:EEST
DTSTART:20230326T010000
END:DAYLIGHT
BEGIN:STANDARD
TZOFFSETFROM:+0300
TZOFFSETTO:+0200
TZNAME:EET
DTSTART:20231029T010000
END:STANDARD
BEGIN:DAYLIGHT
TZOFFSETFROM:+0200
TZOFFSETTO:+0300
TZNAME:EEST
DTSTART:20240331T010000
END:DAYLIGHT
BEGIN:STANDARD
TZOFFSETFROM:+0300
TZOFFSETTO:+0200
TZNAME:EET
DTSTART:20241027T010000
END:STANDARD
END:VTIMEZONE
BEGIN:VEVENT
DTSTART;TZID=Europe/Helsinki:20231203T160000
DTEND;TZID=Europe/Helsinki:20231203T180000
DTSTAMP:20260422T114141
CREATED:20231115T154938Z
LAST-MODIFIED:20231115T160652Z
UID:165-1701619200-1701626400@liedertafel-schwabach-forsthof.de
SUMMARY:Adventssingen der Gruppe "Schwabach Stadt"
DESCRIPTION:Das Adventssingen der Gruppe Schwabach Stadt findet heuer am\nSonntag\, dem 3. Dezember 2023 in der Kirche St. Sebald\, Ludwigstraße 15\, 91126 Schwabach\, statt.\nAlle\, die etwas zur Ruhe kommen wollen\, sind zu diesem Konzert herzlich eingeladen. Es werden unterschiedliche Adventslieder von  verschiedenen Chören vorgetragen.\nWir freuen uns auf viele Besucher.
URL:https://liedertafel-schwabach-forsthof.de/event/adventssingen-der-gruppe-schwabach-stadt/
END:VEVENT
BEGIN:VEVENT
DTSTART;TZID=Europe/Helsinki:20231203T180000
DTEND;TZID=Europe/Helsinki:20231203T213000
DTSTAMP:20260422T114141
CREATED:20231115T153451Z
LAST-MODIFIED:20231115T160036Z
UID:128-1701626400-1701639000@liedertafel-schwabach-forsthof.de
SUMMARY:Unsere Familienweihnachtsfeier
DESCRIPTION:Unsere diesjährige Familien-Weihnachtsfeier findet am Sonntag\, dem 3. Dezember 2023 um 18:00 Uhr in unserem Probenlokal statt. Gasthof Raab\, Rittersbacher Str. 14\, 91126 Schwabach.\nWir freuen uns auf ein paar besinnliche Stunden mit Euch.
URL:https://liedertafel-schwabach-forsthof.de/event/unsere-familienweihnachtsfeier/
LOCATION:Gasthof Raab\, Äußere Rittersbacher Str. 14\, 91126 Schwabach
END:VEVENT
END:VCALENDAR